BEGIN:VCALENDAR
VERSION:2.0
PRODID:-//Les Musicales du causse de Gramat - ECPv6.15.20//NONSGML v1.0//EN
CALSCALE:GREGORIAN
METHOD:PUBLISH
X-ORIGINAL-URL:https://www.lesmusicalesducausse.fr
X-WR-CALDESC:Évènements pour Les Musicales du causse de Gramat
REFRESH-INTERVAL;VALUE=DURATION:PT1H
X-Robots-Tag:noindex
X-PUBLISHED-TTL:PT1H
BEGIN:VTIMEZONE
TZID:Europe/Paris
BEGIN:DAYLIGHT
TZOFFSETFROM:+0100
TZOFFSETTO:+0200
TZNAME:CEST
DTSTART:20230326T010000
END:DAYLIGHT
BEGIN:STANDARD
TZOFFSETFROM:+0200
TZOFFSETTO:+0100
TZNAME:CET
DTSTART:20231029T010000
END:STANDARD
BEGIN:DAYLIGHT
TZOFFSETFROM:+0100
TZOFFSETTO:+0200
TZNAME:CEST
DTSTART:20240331T010000
END:DAYLIGHT
BEGIN:STANDARD
TZOFFSETFROM:+0200
TZOFFSETTO:+0100
TZNAME:CET
DTSTART:20241027T010000
END:STANDARD
BEGIN:DAYLIGHT
TZOFFSETFROM:+0100
TZOFFSETTO:+0200
TZNAME:CEST
DTSTART:20250330T010000
END:DAYLIGHT
BEGIN:STANDARD
TZOFFSETFROM:+0200
TZOFFSETTO:+0100
TZNAME:CET
DTSTART:20251026T010000
END:STANDARD
END:VTIMEZONE
BEGIN:VEVENT
DTSTART;TZID=Europe/Paris:20241020T170000
DTEND;TZID=Europe/Paris:20241020T190000
DTSTAMP:20260423T000016
CREATED:20240130T115328Z
LAST-MODIFIED:20241220T155430Z
UID:7923-1729443600-1729450800@www.lesmusicalesducausse.fr
SUMMARY:Chœur corse de Sartène
DESCRIPTION:Le chœur de Sartène\, est créé en 1995.  Composé de 5 hommes\, le groupe invente sans cesse des espaces musicaux de forme classique\, nourris par le passé\, mais d’inspiration contemporaine.  Le son et la justesse sont le credo des chanteurs\, travailleurs infatigables. Le respect du public et de cette grande dame qu’est la musique sont aussi le souci de ces chanteurs qui tendent toujours vers plus de perfection ne se contentant pas du noir et blanc de la partition mais essayant d’y apporter de la couleur. \nLes différents répertoires du groupe oscillent entre profane et sacré en tentant de véhiculer l’émotion\, une idée de l’âme corse et des mystères de cette île\, en bref ce qui est invisible pour les yeux. \nDans le monde entier et les scènes les plus importantes ils essaient depuis 1995 de transmettre au public une partie d’eux même.
URL:https://www.lesmusicalesducausse.fr/concert/choeur-corse-de-sartene/
LOCATION:Eglise Saint-Pierre\, Place de l'église\, Gramat\, 46500\, France
CATEGORIES:Saison 2024
ATTACH;FMTTYPE=image/jpeg:https://www.lesmusicalesducausse.fr/wp-content/uploads/2024/01/choeur-de-sartene-2010-photo-Belargent.jpg
END:VEVENT
END:VCALENDAR