BEGIN:VCALENDAR
VERSION:2.0
PRODID:-//Les Musicales du causse de Gramat - ECPv6.15.20//NONSGML v1.0//EN
CALSCALE:GREGORIAN
METHOD:PUBLISH
X-ORIGINAL-URL:https://www.lesmusicalesducausse.fr
X-WR-CALDESC:Évènements pour Les Musicales du causse de Gramat
REFRESH-INTERVAL;VALUE=DURATION:PT1H
X-Robots-Tag:noindex
X-PUBLISHED-TTL:PT1H
BEGIN:VTIMEZONE
TZID:Europe/Paris
BEGIN:DAYLIGHT
TZOFFSETFROM:+0100
TZOFFSETTO:+0200
TZNAME:CEST
DTSTART:20220327T010000
END:DAYLIGHT
BEGIN:STANDARD
TZOFFSETFROM:+0200
TZOFFSETTO:+0100
TZNAME:CET
DTSTART:20221030T010000
END:STANDARD
BEGIN:DAYLIGHT
TZOFFSETFROM:+0100
TZOFFSETTO:+0200
TZNAME:CEST
DTSTART:20230326T010000
END:DAYLIGHT
BEGIN:STANDARD
TZOFFSETFROM:+0200
TZOFFSETTO:+0100
TZNAME:CET
DTSTART:20231029T010000
END:STANDARD
BEGIN:DAYLIGHT
TZOFFSETFROM:+0100
TZOFFSETTO:+0200
TZNAME:CEST
DTSTART:20240331T010000
END:DAYLIGHT
BEGIN:STANDARD
TZOFFSETFROM:+0200
TZOFFSETTO:+0100
TZNAME:CET
DTSTART:20241027T010000
END:STANDARD
END:VTIMEZONE
BEGIN:VEVENT
DTSTART;TZID=Europe/Paris:20231008T170000
DTEND;TZID=Europe/Paris:20231008T223000
DTSTAMP:20260422T102936
CREATED:20230212T152102Z
LAST-MODIFIED:20230219T194253Z
UID:5168-1696784400-1696804200@www.lesmusicalesducausse.fr
SUMMARY:Les Sacqueboutiers
DESCRIPTION:Depuis leur fondation en 1976\, Les Sacqueboutiers se consacrent à la redécouverte de la pratique des cuivres anciens et du vaste répertoire de la Renaissance\, âge d’or de leurs instruments. Ils se sont imposés comme l’une des formations de musique ancienne les plus imaginatives. La recherche de l’excellence musicale reste le moteur essentiel de leur travail. Sélectionnés comme Ensemble de l’année aux Victoires de la Musique Classique 2008\, ils ont collaboré avec les ensembles les plus prestigieux pour interpréter des répertoires allant de la Renaissance à Mozart : Hesperion XXI\, Les Arts Florissants\, La Chapelle Royale\, La Grande Ecurie et la Chambre du Roy\, l’ensemble vocal Clément Janequin. \nLes Sacqueboutiers ne se limitent pas au répertoire de la Renaissance. Leur créativité les amène à concevoir des spectacles associant la musique ancienne à d’autres univers artistiques : la musique contemporaine\, la danse\, le monde de la marionnette\, le jazz\, la littérature\, l’ethnomusicologie. \n « Ensemble aidé par le Ministère de la Culture et de la Communication/Préfet de la Région Occitanie\, au titre de l’aide aux ensembles conventionnés et subventionné par la Région Occitanie\, le Conseil Départemental de Haute-Garonne et la Ville de Toulouse. Membre de la Fevis ». \n  \nProgramme\nVenise au temps de Giovanni Gabrieli \nUn programme consacré au compositeur italien Giovanni Gabrieli dont les Canzone ont été composées à la fin du 16ème siècle spécialement pour la basilique Saint-Marc de Venise. \n\nHélène Médous : Violon\nJean-Pierre Canihac : Cornet à bouquin\nDaniel Lassalle : Sacqueboute\nLaurent Le Chenadec : Doulciane\nYasuko Bouvard : Orgue
URL:https://www.lesmusicalesducausse.fr/concert/les-sacqueboutiers/
LOCATION:Eglise Saint-Pierre\, Place de l'église\, Gramat\, 46500\, France
CATEGORIES:Saison 2023
ATTACH;FMTTYPE=image/jpeg:https://www.lesmusicalesducausse.fr/wp-content/uploads/2023/02/8-octobre.jpg
END:VEVENT
END:VCALENDAR