BEGIN:VCALENDAR
VERSION:2.0
PRODID:-//Les Musicales du causse de Gramat - ECPv6.15.20//NONSGML v1.0//EN
CALSCALE:GREGORIAN
METHOD:PUBLISH
X-WR-CALNAME:Les Musicales du causse de Gramat
X-ORIGINAL-URL:https://www.lesmusicalesducausse.fr
X-WR-CALDESC:Évènements pour Les Musicales du causse de Gramat
REFRESH-INTERVAL;VALUE=DURATION:PT1H
X-Robots-Tag:noindex
X-PUBLISHED-TTL:PT1H
BEGIN:VTIMEZONE
TZID:Europe/Paris
BEGIN:DAYLIGHT
TZOFFSETFROM:+0100
TZOFFSETTO:+0200
TZNAME:CEST
DTSTART:20220327T010000
END:DAYLIGHT
BEGIN:STANDARD
TZOFFSETFROM:+0200
TZOFFSETTO:+0100
TZNAME:CET
DTSTART:20221030T010000
END:STANDARD
BEGIN:DAYLIGHT
TZOFFSETFROM:+0100
TZOFFSETTO:+0200
TZNAME:CEST
DTSTART:20230326T010000
END:DAYLIGHT
BEGIN:STANDARD
TZOFFSETFROM:+0200
TZOFFSETTO:+0100
TZNAME:CET
DTSTART:20231029T010000
END:STANDARD
BEGIN:DAYLIGHT
TZOFFSETFROM:+0100
TZOFFSETTO:+0200
TZNAME:CEST
DTSTART:20240331T010000
END:DAYLIGHT
BEGIN:STANDARD
TZOFFSETFROM:+0200
TZOFFSETTO:+0100
TZNAME:CET
DTSTART:20241027T010000
END:STANDARD
END:VTIMEZONE
BEGIN:VEVENT
DTSTART;TZID=Europe/Paris:20230603T203000
DTEND;TZID=Europe/Paris:20230603T223000
DTSTAMP:20260422T164216
CREATED:20230212T144437Z
LAST-MODIFIED:20230212T163748Z
UID:5112-1685824200-1685831400@www.lesmusicalesducausse.fr
SUMMARY:Doomin Kim
DESCRIPTION:Lauréat du Diplôme Supérieur de Concertiste 2022 de l’École Normale de Musique de Paris Alfred Cortot \nNé en Corée du Sud en 2003\, Doomin KIM commence à jouer du piano à l’âge de sept ans\, et en quelques mois il peut jouer des études de Czerny. Dès l’âge de dix ans\, il décide de devenir musicien professionnel. Doomin Kim part alors étudier en Italie\, à l’Academia pianistica d’Imola\, en 2015 : il n’a alors que douze ans.\,En 2016\, il s’installe en France où il réside depuis.\,Il étudie à l’ÉcoleNormale de Musique de Paris Alfred Cortot avec Michael Wladkowski. En 2022\, il obtient le Diplôme Supérieur de Concertiste\, la plus haute distinction de l’École. \nEn 2017\, à la suite d’une audition privée\, Doomin Kim enregistre chez Warner Classics son premier album dédié aux œuvres de Mendelssohn. Cet album qui réunit des œuvres rarement jouées du compositeur ainsi que des pièces connues\, sort en 2019 dans 38 pays. Il a reçu les éloges de la presse et des medias\, et notamment de France Musique\, de Gramophone\, et d’Apple Music qui a nommé cet album « 10 album classique du mois ». En 2019\, Doomin Kim enregistre un album « Beethoven Complete Works » chez Warner Classics\, ainsi qu’un CD « Rare Piano Solo Works »\, puis un CD « Complete 4 hands Works » avec Guillaume Vincent. \nDoomin Kim a reçu l’enseignement de grands maîtres de la musique du monde entier lors de cours et master class. Depuis le succès de son album en 2019\, Doomin Kim se produit régulièrement en concert et dans de nombreux festivals en France et en Corée. \n  \nProgramme\n\nLiszt\, Deuxième Ballade en si mineur S.171\nLiszt\, Sonate en si mineur S.178\nChopin\, Polonaise Op.44 en Fa dièse mineur\nChopin\, 2 Nocturnes Op.37\nChopin\, Scherzo N.2 Op.31 en Si bémol mineur\n\n 
URL:https://www.lesmusicalesducausse.fr/concert/doomin-kim/
LOCATION:Salle de l’horloge\, Rue de l'horloge\, Gramat\, 46500\, France
CATEGORIES:Saison 2023
ATTACH;FMTTYPE=image/jpeg:https://www.lesmusicalesducausse.fr/wp-content/uploads/2023/02/3-juin-1.jpg
END:VEVENT
END:VCALENDAR