BEGIN:VCALENDAR
VERSION:2.0
PRODID:-//Les Musicales du causse de Gramat - ECPv6.15.20//NONSGML v1.0//EN
CALSCALE:GREGORIAN
METHOD:PUBLISH
X-ORIGINAL-URL:https://www.lesmusicalesducausse.fr
X-WR-CALDESC:Évènements pour Les Musicales du causse de Gramat
REFRESH-INTERVAL;VALUE=DURATION:PT1H
X-Robots-Tag:noindex
X-PUBLISHED-TTL:PT1H
BEGIN:VTIMEZONE
TZID:Europe/Paris
BEGIN:DAYLIGHT
TZOFFSETFROM:+0100
TZOFFSETTO:+0200
TZNAME:CEST
DTSTART:20240331T010000
END:DAYLIGHT
BEGIN:STANDARD
TZOFFSETFROM:+0200
TZOFFSETTO:+0100
TZNAME:CET
DTSTART:20241027T010000
END:STANDARD
BEGIN:DAYLIGHT
TZOFFSETFROM:+0100
TZOFFSETTO:+0200
TZNAME:CEST
DTSTART:20250330T010000
END:DAYLIGHT
BEGIN:STANDARD
TZOFFSETFROM:+0200
TZOFFSETTO:+0100
TZNAME:CET
DTSTART:20251026T010000
END:STANDARD
BEGIN:DAYLIGHT
TZOFFSETFROM:+0100
TZOFFSETTO:+0200
TZNAME:CEST
DTSTART:20260329T010000
END:DAYLIGHT
BEGIN:STANDARD
TZOFFSETFROM:+0200
TZOFFSETTO:+0100
TZNAME:CET
DTSTART:20261025T010000
END:STANDARD
END:VTIMEZONE
BEGIN:VEVENT
DTSTART;TZID=Europe/Paris:20250531T203000
DTEND;TZID=Europe/Paris:20250531T223000
DTSTAMP:20260422T140445
CREATED:20250123T092922Z
LAST-MODIFIED:20250513T084839Z
UID:11756-1748723400-1748730600@www.lesmusicalesducausse.fr
SUMMARY:Quatuor Cordes et Ames en quintette avec piano
DESCRIPTION:Cette formation n’est pas nouvelle pour le quatuor cordes et âmes mais\, comme l‘esprit principal de ce groupe\, c’est une histoire d’Amitié et d’affinités. Ce sont quatre musiciens de l’Orchestre National du Capitole de Toulouse passionnés de musique de chambre et ils sont formé cet ensemble déjà depuis plus de 15 ans. Ce sont aux violons : Mary Randles et Kristi Gjezi\, à l’alto : Isabelle Mension\, au Cello : Gael Seydou. Ils sont rejoints par la talentueuse pianiste Eloise Urbain avec laquelle ils avaient projeté depuis longtemps de jouer ce magnifique programme en quintette. C’est la 1ere fois qu’ils réussissent à se retrouver tous les 5. \n C’est en avant première qu’ils vont interpréter à Gramat  2 superbes quintettes et les Musicales en auront l’exclusivité : le Quintette pour piano en mi bémol majeur de Robert Schumann et le Quintette pour piano n° 2 en la majeur d’Antonín Dvořák.    \nComposé en 1842\, le Quintette pour piano et quatuor à cordes est joué pour la première fois un an plus tard avec au piano Clara Schumann\, la femme de l’auteur. Ce quintette en quatre mouvements est considéré aujourd’hui comme l’un des manifestes musicaux du romantisme. Hommage y est rendu à la Symphonie Héroïque de Beethoven et au Trio de l’op.100 de Schubert. L’auditeur voyage entre fantaisie et rigueur\, entre un scherzo joué molto vivace et une marche funèbre avant de repartir vers un allegro final. Le Quintette de Schumann se distingue par ce caractère surprenant qui à chaque mouvement emmène l’esprit là où on ne s’y attend pas. \nEn juillet 1887\, Dvorak reprend l’ancienne partition d’un quintette pour piano et cordes qu’il a composé quinze ans auparavant et essaie de l’améliorer. Le résultat lui paraissant peu convaincant\, il décide de se remettre au travail en élargissant les dimensions et en approfondissant l’écriture de sa composition. Ainsi est née cette œuvre magistrale. Il s’agit en effet d’une composition d’un équilibre parfait au sens où l’on sent l’incomparable maîtrise technique qu’avait acquise le compositeur\, en grande partie sous l’influence de Brahms qui est sans doute celui à qui nous devons sa révélation hors de son pays.
URL:https://www.lesmusicalesducausse.fr/concert/quatuor-cordes-et-ames-en-quintette-avec-piano/
LOCATION:Salle de l’horloge\, Rue de l'horloge\, Gramat\, 46500\, France
CATEGORIES:Saison 2025
ATTACH;FMTTYPE=image/png:https://www.lesmusicalesducausse.fr/wp-content/uploads/2025/01/31-mai-scaled.png
END:VEVENT
END:VCALENDAR