BEGIN:VCALENDAR
VERSION:2.0
PRODID:-//Les Musicales du causse de Gramat - ECPv6.15.20//NONSGML v1.0//EN
CALSCALE:GREGORIAN
METHOD:PUBLISH
X-ORIGINAL-URL:https://www.lesmusicalesducausse.fr
X-WR-CALDESC:Évènements pour Les Musicales du causse de Gramat
REFRESH-INTERVAL;VALUE=DURATION:PT1H
X-Robots-Tag:noindex
X-PUBLISHED-TTL:PT1H
BEGIN:VTIMEZONE
TZID:Europe/Paris
BEGIN:DAYLIGHT
TZOFFSETFROM:+0100
TZOFFSETTO:+0200
TZNAME:CEST
DTSTART:20230326T010000
END:DAYLIGHT
BEGIN:STANDARD
TZOFFSETFROM:+0200
TZOFFSETTO:+0100
TZNAME:CET
DTSTART:20231029T010000
END:STANDARD
BEGIN:DAYLIGHT
TZOFFSETFROM:+0100
TZOFFSETTO:+0200
TZNAME:CEST
DTSTART:20240331T010000
END:DAYLIGHT
BEGIN:STANDARD
TZOFFSETFROM:+0200
TZOFFSETTO:+0100
TZNAME:CET
DTSTART:20241027T010000
END:STANDARD
BEGIN:DAYLIGHT
TZOFFSETFROM:+0100
TZOFFSETTO:+0200
TZNAME:CEST
DTSTART:20250330T010000
END:DAYLIGHT
BEGIN:STANDARD
TZOFFSETFROM:+0200
TZOFFSETTO:+0100
TZNAME:CET
DTSTART:20251026T010000
END:STANDARD
END:VTIMEZONE
BEGIN:VEVENT
DTSTART;TZID=Europe/Paris:20241117T170000
DTEND;TZID=Europe/Paris:20241117T190000
DTSTAMP:20260422T235849
CREATED:20240130T115847Z
LAST-MODIFIED:20241220T154508Z
UID:7927-1731862800-1731870000@www.lesmusicalesducausse.fr
SUMMARY:Vive l'amour ! - J. Depardieu\, J. Hurel et H. Couvert
DESCRIPTION:Après le succès de « Misia Sert\, reine de Paris »\, les trois artistes nous proposent leur nouvelle création  » Vive l’amour ! « \, un voyage original entre lettres d’amour et musiques des plus grands compositeurs. \nNous connaissons bien les passions entre Clara et Robert Schumann\, George Sand et Frédéric Chopin\, Marie d’Agoult et Franz Liszt\, mais saviez-vous que Mozart écrivait jusqu’à deux fois par jour à sa femme Constance ? que Beethoven eut une histoire d’amour avec une femme restée inconnue de tous ? Sans oublier les confidences étonnantes d’Alma et Gustav Mahler et la plume pleine de verve de Claude Debussy ! \nDistribution \n\nJulie Depardieu\, récitante\nJuliette Hurel\, flûte\nHélène Couvert\, piano
URL:https://www.lesmusicalesducausse.fr/concert/vive-lamour/
LOCATION:Salle de l’horloge\, Rue de l'horloge\, Gramat\, 46500\, France
CATEGORIES:Saison 2024
ATTACH;FMTTYPE=image/jpeg:https://www.lesmusicalesducausse.fr/wp-content/uploads/2024/01/trio-depardieu-1711-Royal-Hainaut.jpg
END:VEVENT
END:VCALENDAR